BEGIN:VCALENDAR
VERSION:2.0
PRODID:icalendar-ruby
CALSCALE:GREGORIAN
METHOD:PUBLISH
BEGIN:VEVENT
DTSTAMP:20260420T202504Z
UID:13-853639@fellowshipbible.tithelysetup5.com
DTSTART:20261025T140000Z
DTEND:20261025T144500Z
CLASS:PUBLIC
CREATED:20260420T153701
DESCRIPTION:
LAST-MODIFIED:20260420T153701
LOCATION:
SUMMARY:Sunday School
URL;VALUE=URI:https://fellowshipnj.com/events/sunday-school/2026-10-25
ATTACH;FILENAME=1fRh.jpg;FMTTYPE=image/jpeg:https://dq5pwpg1q8ru0.cloudfron
 t.net/2024/09/05/12/24/19/7176f4e3-3b71-4a94-9dc6-7de75d3ed0c1/1fRh.jpg
END:VEVENT
END:VCALENDAR
